BEGIN:VCALENDAR
VERSION:2.0
PRODID:-//ChamberMaster//Event Calendar 2.0//EN
METHOD:PUBLISH
X-PUBLISHED-TTL:P3D
REFRESH-INTERVAL:P3D
CALSCALE:GREGORIAN
BEGIN:VEVENT
DTSTART:20231025T230000Z
DTEND:20231026T020000Z
X-MICROSOFT-CDO-ALLDAYEVENT:FALSE
SUMMARY:Access Humboldt's Annual Meeting
DESCRIPTION:What: Annual Membership Meeting & Mixer When: Wednesday. October 25\, 2023 - 4pm Where: CR Eureka Campus Every October\, Access Humboldt holds its annual membership meeting. At these meetings\, our board announces its new members (designated\, elected & appointed) and our Executive Director\, Sean McLaughlin\, gives an annual report. We will also host some time for networking\, music and refreshments to celebrate our studio and equipment upgrades! Guests will have a chance to renew their membership\, record for the radio and more!! Partake in a some Access Humboldt festivities and catch up on all things Access Humboldt! AGENDA: Access Humboldt Annual meeting starts at 4pm. 4pm: Member Meeting 5pm: Board of Directors' Meeting 5:30pm: Party! Any questions feel free to respond to this email or contact Mo Harper-Desir directly at Monique@Accesshumboldt.net
X-ALT-DESC;FMTTYPE=text/html:What: Annual Membership Meeting &amp\; Mixer When: Wednesday. October 25\, 2023 - 4pm Where: CR Eureka Campus Every October\, Access Humboldt holds its annual membership meeting. At these meetings\, our board announces its new members (designated\, elected &amp\; appointed) and our Executive Director\, Sean McLaughlin\, gives an annual report. We will also host some time for networking\, music and refreshments to celebrate our studio and equipment upgrades! Guests will have a chance to renew their membership\, record for the radio and more!! Partake in a some Access Humboldt festivities and catch up on all things Access Humboldt! AGENDA: Access Humboldt Annual meeting starts at 4pm. 4pm: Member Meeting 5pm: Board of Directors&rsquo\; Meeting 5:30pm: Party! Any questions feel free to respond to this email or contact Mo Harper-Desir directly at Monique@Accesshumboldt.net
LOCATION:7351 Tompkins Hill Rd - Building 10
UID:e.2942.309
SEQUENCE:3
DTSTAMP:20260421T224232Z
URL:https://business.arcatachamber.com/events/details/access-humboldt-s-annual-meeting-10-25-2023-309
END:VEVENT

END:VCALENDAR
