BEGIN:VCALENDAR
VERSION:2.0
PRODID:-//ChamberMaster//Event Calendar 2.0//EN
METHOD:PUBLISH
X-PUBLISHED-TTL:P3D
REFRESH-INTERVAL:P3D
CALSCALE:GREGORIAN
BEGIN:VEVENT
DTSTART:20230218T013000Z
DTEND:20230218T043000Z
X-MICROSOFT-CDO-ALLDAYEVENT:FALSE
SUMMARY:Access Humboldt Member Appreciation Night
DESCRIPTION:We're throwing a party and it's for YOU\, our members!! Join us... Friday February 17th 2023 5:30pm We'll treat you to some local eats and libation\, listen to live music and host a mini screening of local and member content! We encourage you to bring a friend who might be interested in becoming a member! Free for members $2 suggested donation for non members. To get involved with our screening please reply to me directly! Monique@accesshumboldt.net
X-ALT-DESC;FMTTYPE=text/html:We&#39\;re throwing a party and it&#39\;s for YOU\, our members!! Join us... Friday February 17th 2023 5:30pm We&#39\;ll treat you to some local eats and libation\, listen to live music and host a mini screening of local and member content! We encourage you to bring a friend who might be interested in becoming a member! Free for members $2 suggested donation for non members. To get involved with our screening please reply to me directly! Monique@accesshumboldt.net
LOCATION:College of The Redwoods Building 10 Eureka CA 95501
UID:e.2942.110
SEQUENCE:3
DTSTAMP:20260421T084429Z
URL:https://business.arcatachamber.com/events/details/access-humboldt-member-appreciation-night-110
END:VEVENT

END:VCALENDAR
