BEGIN:VCALENDAR
VERSION:2.0
PRODID:-//ChamberMaster//Event Calendar 2.0//EN
METHOD:PUBLISH
X-PUBLISHED-TTL:P3D
REFRESH-INTERVAL:P3D
CALSCALE:GREGORIAN
BEGIN:VEVENT
DTSTART:20260531T000000Z
DTEND:20260531T040000Z
X-MICROSOFT-CDO-ALLDAYEVENT:FALSE
SUMMARY:2026 Celebration of the Arts Gala: Celebrating How "Art Grows Here"
DESCRIPTION:The Humboldt Arts Council is proud to announce the 2026 Celebration of the Arts Gala\, taking place on Saturday\, May 30th\, from 5 to 9 p.m. at the Morris Graves Museum of Art. This year\, the Council will present the 2026 Outstanding Contribution to the Arts Award to master woodworker and historical conservator Eric Hollenbeck.
X-ALT-DESC;FMTTYPE=text/html:The Humboldt Arts Council is proud to announce the 2026 Celebration of the Arts Gala\, taking place on Saturday\, May 30th\, from 5 to 9 p.m. at the Morris Graves Museum of Art. This year\, the Council will present the 2026 Outstanding Contribution to the Arts Award to master woodworker and historical conservator Eric Hollenbeck.
LOCATION:Morris Graves Museum
UID:e.2942.654
SEQUENCE:3
DTSTAMP:20260421T105100Z
URL:https://business.arcatachamber.com/events/details/2026-celebration-of-the-arts-gala-celebrating-how-art-grows-here-654
END:VEVENT

END:VCALENDAR
