BEGIN:VCALENDAR
VERSION:2.0
PRODID:-//ChamberMaster//Event Calendar 2.0//EN
METHOD:PUBLISH
X-PUBLISHED-TTL:P3D
REFRESH-INTERVAL:P3D
CALSCALE:GREGORIAN
BEGIN:VEVENT
DTSTART:20240225T003000Z
DTEND:20240225T043000Z
X-MICROSOFT-CDO-ALLDAYEVENT:FALSE
SUMMARY:2024 Arcata Chamber Leadership Awards Dinner
DESCRIPTION:Enjoy an evening of local fine dining\, beverages\, and entertainment as you recognize the outstanding contributions your peers have made to the Arcata Community! Our caterers for the evening are a dynamic trio of local businesses\, Mother's Cooking Experience\, The Ville Co\, and Food with Hoy. The menu represents the collaborations of three unique local businesses that proudly celebrate the blending of culture & flavors! The entertainment for the night is "Yacht Blooded\," a supergroup made up of City leaders that you will be thrilled to see as their musical alter-egos!\n\nTicket and Sponsorship Info:\n\nTable Decorating Fee $70\n\nIndividual Ticket $85\n\nTable of 8 with a bottle of local wine $700\n\nIf you are nominated for an award category after purchasing a ticket we will refund you and charge a $45 ticket fee instead. Nominations will begin January 1st.\n\nIf you would like to sponsor this event\, please email Gloria@ArcataChamber.com.\n\nBronze Sponsorship $500\n\n\n	This does not include a ticket\n	You will have your logo on our event program\, on the event slide show\, in our social media promotion\, and your logo on our website\n\n\nSilver Sponsorship $1500\n\n\n	Table of 8 with 1 bottle of wine\n	Social Media Announcements\n	Logo presented on the slide show for the evening\n	Newsletter promotion\n	Logo on the event program\n	Logo on our website\n\n\nGold Sponsorship $2500\n\n\n	Table of 8 with 2 bottles of wine\n	Social Media Announcements\n	Logo presented on the slide show for the evening\n	Newsletter promotion\n	Logo on the event program\n	Logo on our website\n	A special post on social media with a flier or video of your choice\n	Preferred seating choice
X-ALT-DESC;FMTTYPE=text/html:<p>&nbsp\;</p>\n\n<p><strong>Enjoy an evening of local fine dining\, beverages\, and entertainment as you recognize the outstanding contributions your peers have made to the Arcata Community! </strong><strong>Our caterers for the evening are a dynamic trio of local businesses\, Mother&rsquo\;s Cooking Experience\, The Ville Co\, and Food with Hoy. The menu represents the collaborations of three unique local businesses that proudly celebrate the blending of culture &amp\; flavors! The entertainment for the night is &ldquo\;Yacht Blooded\,&rdquo\; a supergroup made up of City leaders that you will be thrilled to see as their musical alter-egos!</strong></p>\n\n<p><strong>Ticket and Sponsorship Info:</strong></p>\n\n<p><strong>Table Decorating Fee $70</strong></p>\n\n<p><strong>Individual Ticket $85</strong></p>\n\n<p><strong>Table of 8 with a bottle of local wine $700</strong></p>\n\n<p><strong>If you are nominated for an award category after purchasing a ticket we will refund you and charge a $45 ticket fee instead. </strong><strong>Nominations will begin January 1st.</strong></p>\n\n<p><em><strong>If you would like to sponsor this event\, please email Gloria@ArcataChamber.com.</strong></em></p>\n\n<p><strong>Bronze Sponsorship $500</strong></p>\n\n<ul>\n	<li value="1"><strong>This does not include a ticket</strong></li>\n	<li value="2"><strong>You will have your logo on our event program\, on the event slide show\, in our social media promotion\, and your logo on our website</strong></li>\n</ul>\n\n<p><strong>Silver Sponsorship $1500</strong></p>\n\n<ul>\n	<li value="1"><strong>Table of 8 with 1 bottle of wine</strong></li>\n	<li value="2"><strong>Social Media Announcements</strong></li>\n	<li value="3"><strong>Logo presented on the slide show for the evening</strong></li>\n	<li value="4"><strong>Newsletter promotion</strong></li>\n	<li value="5"><strong>Logo on the event program</strong></li>\n	<li value="6"><strong>Logo on our website</strong></li>\n</ul>\n\n<p><strong>Gold Sponsorship $2500</strong></p>\n\n<ul>\n	<li value="1"><strong>Table of 8 with 2 bottles of wine</strong></li>\n	<li value="2"><strong>Social Media Announcements</strong></li>\n	<li value="3"><strong>Logo presented on the slide show for the evening</strong></li>\n	<li value="4"><strong>Newsletter promotion</strong></li>\n	<li value="5"><strong>Logo on the event program</strong></li>\n	<li value="6"><strong>Logo on our website</strong></li>\n	<li value="7"><strong>A special post on social media with a flier or video of your choice</strong></li>\n	<li value="8"><strong>Preferred seating choice</strong></li>\n</ul>\n
LOCATION:Arcata Community Center 321 Dr. Martin Luther King Jr. Drive Arcata\, CA
UID:e.2942.302
SEQUENCE:3
DTSTAMP:20260422T050738Z
URL:https://business.arcatachamber.com/events/details/2024-arcata-chamber-leadership-awards-dinner-302
END:VEVENT

END:VCALENDAR
