BEGIN:VCALENDAR
VERSION:2.0
PRODID:-//ChamberMaster//Event Calendar 2.0//EN
METHOD:PUBLISH
X-PUBLISHED-TTL:P3D
REFRESH-INTERVAL:P3D
CALSCALE:GREGORIAN
BEGIN:VEVENT
DTSTART:20230323T183000Z
DTEND:20230323T203000Z
X-MICROSOFT-CDO-ALLDAYEVENT:FALSE
SUMMARY:2023 State of the City
DESCRIPTION:Interested to hear about the state of Arcata currently and for the upcoming year?\n\nHear from these important and influential institutions.\n\n\n\nPresentations from:\n\n	The City of Arcata & Equity Arcata\n	\n		 Karen Diemer\; City Manager & City of Arcata Council members will be discussing: Upcoming Projects\, Community Ambassadors Programs\, the City partnership with Cal Poly Office of Diversity\, Equity & Inclusion\, and a General City Overview. \n	\n	\n\n  There will be a moderated Q&A following the presentations.\n\n\n\nHave questions you would like the presenters to address\, email those questions to us ahead of time at Arcata@ArcataChamber.com\n\n\n\n20% of the proceeds will be donated to Equity Arcata & thank you to our sponsor Redwood Capital Bank!
X-ALT-DESC;FMTTYPE=text/html:<span style="font-size:16px\;"><span style="font-family:arial\;">Interested to hear about the state of Arcata currently and for the upcoming year?<br />\nHear from these important and influential institutions.<br />\n<br />\nPresentations from:</span></span>\n<ul>\n	<li><span style="font-size:16px\;"><span style="font-family:arial\;">The City of Arcata &amp\; Equity Arcata</span></span>\n	<ul>\n		<li><span style="font-size:16px\;"><span style="font-family:arial\;">&#8203\;Karen Diemer\; City Manager &amp\; City of Arcata Council members will</span></span><span style="font-size:16px\;"><span style="font-family:arial\;"><span style="font-size:16px\;"><span style="font-family:arial\;"><span style="font-size:16px\;"><span style="font-family:arial\;">&nbsp\;be discussing: Upcoming Projects\, Community Ambassadors Programs\, the City partnership with Cal Poly Office of Diversity\, Equity &amp\; Inclusion\, and a General City Overview.&nbsp\;</span></span></span></span></span></span></li>\n	</ul>\n	</li>\n</ul>\n<span style="font-size:16px\;"> <span style="font-family:arial\;"> There will be a moderated Q&amp\;A following the presentations.<br />\n<br />\nHave questions you would like the presenters to address\, email those questions to us ahead of time at <a href="mailto:Arcata@ArcataChamber.com">Arcata@ArcataChamber.com</a><br />\n<br />\n20% of the proceeds will be donated to Equity Arcata &amp\; thank you to our sponsor Redwood Capital Bank!&nbsp\;</span></span><br />\n&nbsp\;
LOCATION:The Minor Theatre 1036 G St Arcata\, CA 95521
UID:e.2942.91
SEQUENCE:3
DTSTAMP:20260421T115104Z
URL:https://business.arcatachamber.com/events/details/2023-state-of-the-city-91
END:VEVENT

END:VCALENDAR
