BEGIN:VCALENDAR
VERSION:2.0
PRODID:-//ChamberMaster//Event Calendar 2.0//EN
METHOD:PUBLISH
X-PUBLISHED-TTL:P3D
REFRESH-INTERVAL:P3D
CALSCALE:GREGORIAN
BEGIN:VEVENT
DTSTART:20230704T180000Z
DTEND:20230705T000000Z
X-MICROSOFT-CDO-ALLDAYEVENT:FALSE
SUMMARY:2023 July 4th Jubilee
DESCRIPTION:The Arcata Chamber of Commerce is starting to plan all the fun for this year's 2023 July 4th Jubilee! \n\nWe will have music\, aerialists\, bubbles\, food\, beer\, makers\, and many of your favorites for a great summer shindig on the plaza!
X-ALT-DESC;FMTTYPE=text/html:The Arcata Chamber of Commerce is starting to plan all the fun for this year&#39\;s 2023 July 4th Jubilee!&nbsp\;<br />\nWe will have music\, aerialists\, bubbles\, food\, beer\, makers\, and many of your favorites for a great summer shindig on the plaza!
LOCATION:Arcata Plaza
UID:e.2942.276
SEQUENCE:3
DTSTAMP:20260421T181346Z
URL:https://business.arcatachamber.com/events/details/2023-july-4th-jubilee-276
END:VEVENT

END:VCALENDAR
